BEGIN:VCALENDAR
VERSION:2.0
PRODID:-//RASC Hamilton - ECPv6.15.20//NONSGML v1.0//EN
CALSCALE:GREGORIAN
METHOD:PUBLISH
X-ORIGINAL-URL:https://www.hamiltonrasc.ca
X-WR-CALDESC:Events for RASC Hamilton
REFRESH-INTERVAL;VALUE=DURATION:PT1H
X-Robots-Tag:noindex
X-PUBLISHED-TTL:PT1H
BEGIN:VTIMEZONE
TZID:America/Toronto
BEGIN:DAYLIGHT
TZOFFSETFROM:-0500
TZOFFSETTO:-0400
TZNAME:EDT
DTSTART:20240310T070000
END:DAYLIGHT
BEGIN:STANDARD
TZOFFSETFROM:-0400
TZOFFSETTO:-0500
TZNAME:EST
DTSTART:20241103T060000
END:STANDARD
BEGIN:DAYLIGHT
TZOFFSETFROM:-0500
TZOFFSETTO:-0400
TZNAME:EDT
DTSTART:20250309T070000
END:DAYLIGHT
BEGIN:STANDARD
TZOFFSETFROM:-0400
TZOFFSETTO:-0500
TZNAME:EST
DTSTART:20251102T060000
END:STANDARD
BEGIN:DAYLIGHT
TZOFFSETFROM:-0500
TZOFFSETTO:-0400
TZNAME:EDT
DTSTART:20260308T070000
END:DAYLIGHT
BEGIN:STANDARD
TZOFFSETFROM:-0400
TZOFFSETTO:-0500
TZNAME:EST
DTSTART:20261101T060000
END:STANDARD
END:VTIMEZONE
BEGIN:VEVENT
DTSTART;TZID=America/Toronto:20250111T200000
DTEND;TZID=America/Toronto:20250112T050000
DTSTAMP:20260420T012345
CREATED:20241229T193123Z
LAST-MODIFIED:20241229T200939Z
UID:19048-1736625600-1736658000@www.hamiltonrasc.ca
SUMMARY:Mars Closest to Earth (overnight)
DESCRIPTION:A few days before Mars reaches opposition on January 15-16\, the red planet will be closest to Earth on Saturday\, January 11 in the Americas. That night\, Mars will be 59.70 million miles\, 96.08 million km\, or 5.33 light-minutes away. You can view the bright reddish planet from late evening onward\, near the bright stars Pollux and Castor in Gemini. In a telescope\, the planet will exhibit its maximum apparent disk size of 14.6 arc-seconds\, revealing the greatest amount of surface detail this year. Mars will continue to brighten in the sky until opposition night. The difference in the two dates arises because the distance between Earth’s and Mars’ elliptical orbits is increasing at this time of the year.
URL:https://www.hamiltonrasc.ca/event/mars-closest-to-earth-overnight/
CATEGORIES:Astronomical Events
END:VEVENT
BEGIN:VEVENT
DTSTART;TZID=America/Toronto:20250112T190000
DTEND;TZID=America/Toronto:20250112T220000
DTSTAMP:20260420T012345
CREATED:20241229T193123Z
LAST-MODIFIED:20241229T200939Z
UID:19049-1736708400-1736719200@www.hamiltonrasc.ca
SUMMARY:Full Moon in the Winter Football (evening)
DESCRIPTION:From Friday until Sunday night\, January 12\, the nearly full moon will shine inside the Winter Football asterism\, also known as the Winter Hexagon and Winter Circle. The asterism is composed of the brightest stars in the constellations of Canis Major\, Orion\, Taurus\, Auriga\, Gemini\, and Canis Minor – specifically Sirius\, Rigel\, Aldebaran\, Capella\, Castor & Pollux\, and Procyon. Once Sirius has risen above the rooftops in the southeast around 7 p.m. local time\, the huge pattern will straddle nearly 70 degrees of the southeastern sky. In late evening\, the asterism will stand upright in the southern sky\, with the Milky Way ascending vertically through it. The hexagon is visible during evening from mid-November to spring every year. Jupiter\, which is brighter than any of the asterism’s stars\, will be spending this month on the western rim of the football\, between Aldebaran and Capella.
URL:https://www.hamiltonrasc.ca/event/full-moon-in-the-winter-football-evening/
CATEGORIES:Astronomical Events
END:VEVENT
END:VCALENDAR