BEGIN:VCALENDAR
VERSION:2.0
PRODID:-//RASC Hamilton - ECPv6.15.20//NONSGML v1.0//EN
CALSCALE:GREGORIAN
METHOD:PUBLISH
X-ORIGINAL-URL:https://www.hamiltonrasc.ca
X-WR-CALDESC:Events for RASC Hamilton
REFRESH-INTERVAL;VALUE=DURATION:PT1H
X-Robots-Tag:noindex
X-PUBLISHED-TTL:PT1H
BEGIN:VTIMEZONE
TZID:America/Toronto
BEGIN:DAYLIGHT
TZOFFSETFROM:-0500
TZOFFSETTO:-0400
TZNAME:EDT
DTSTART:20240310T070000
END:DAYLIGHT
BEGIN:STANDARD
TZOFFSETFROM:-0400
TZOFFSETTO:-0500
TZNAME:EST
DTSTART:20241103T060000
END:STANDARD
BEGIN:DAYLIGHT
TZOFFSETFROM:-0500
TZOFFSETTO:-0400
TZNAME:EDT
DTSTART:20250309T070000
END:DAYLIGHT
BEGIN:STANDARD
TZOFFSETFROM:-0400
TZOFFSETTO:-0500
TZNAME:EST
DTSTART:20251102T060000
END:STANDARD
BEGIN:DAYLIGHT
TZOFFSETFROM:-0500
TZOFFSETTO:-0400
TZNAME:EDT
DTSTART:20260308T070000
END:DAYLIGHT
BEGIN:STANDARD
TZOFFSETFROM:-0400
TZOFFSETTO:-0500
TZNAME:EST
DTSTART:20261101T060000
END:STANDARD
END:VTIMEZONE
BEGIN:VEVENT
DTSTART;TZID=America/Toronto:20250110T173000
DTEND;TZID=America/Toronto:20250110T193000
DTSTAMP:20260419T213743
CREATED:20241229T193123Z
LAST-MODIFIED:20241229T200939Z
UID:19046-1736530200-1736537400@www.hamiltonrasc.ca
SUMMARY:Venus at Greatest Eastern Elongation (after sunset)
DESCRIPTION:On Friday\, January 10\, Venus will officially reach its widest separation of 47 degrees east of the sun. Viewed in a telescope (inset)\, the planet will exhibit a half-illuminated phase. For best results\, observe Venus during evening twilight when the contrast between the bright planet and the surrounding sky is lower. After Friday\, our sister planet will continue to brighten and increase in apparent disk diameter as it swings sunward for its inferior solar conjunction in late March.
URL:https://www.hamiltonrasc.ca/event/venus-at-greatest-eastern-elongation-after-sunset/
CATEGORIES:Astronomical Events
END:VEVENT
BEGIN:VEVENT
DTSTART;TZID=America/Toronto:20250110T200000
DTEND;TZID=America/Toronto:20250111T050000
DTSTAMP:20260419T213743
CREATED:20241229T193123Z
LAST-MODIFIED:20241229T200939Z
UID:19047-1736539200-1736571600@www.hamiltonrasc.ca
SUMMARY:Bright Moon Joins Jupiter (all night)
DESCRIPTION:At dusk on Friday\, January 10\, look to the east for the brilliant planet Jupiter shining several finger widths to the lower right (or celestial south) of the bright\, waxing gibbous moon – cozy enough to share the view in binoculars (orange circle). The duo will make a lovely photo opportunity when composed with some nice foreground scenery. As the moon and Jupiter climb higher\, the bright stars of winter will appear around them\, particularly yellowish Capella on their upper left (celestial north) and reddish Aldebaran to their right (celestial south). Both stars are part of the huge winter hexagon asterism. The moon and Jupiter will culminate due south around 9:30 p.m. local time and set in the west before dawn on Saturday morning. By then the diurnal rotation of the sky will lift the moon above Jupiter.
URL:https://www.hamiltonrasc.ca/event/bright-moon-joins-jupiter-all-night/
CATEGORIES:Astronomical Events
END:VEVENT
END:VCALENDAR