BEGIN:VCALENDAR
VERSION:2.0
PRODID:-//RASC Hamilton - ECPv6.15.20//NONSGML v1.0//EN
CALSCALE:GREGORIAN
METHOD:PUBLISH
X-WR-CALNAME:RASC Hamilton
X-ORIGINAL-URL:https://www.hamiltonrasc.ca
X-WR-CALDESC:Events for RASC Hamilton
REFRESH-INTERVAL;VALUE=DURATION:PT1H
X-Robots-Tag:noindex
X-PUBLISHED-TTL:PT1H
BEGIN:VTIMEZONE
TZID:America/Toronto
BEGIN:DAYLIGHT
TZOFFSETFROM:-0500
TZOFFSETTO:-0400
TZNAME:EDT
DTSTART:20240310T070000
END:DAYLIGHT
BEGIN:STANDARD
TZOFFSETFROM:-0400
TZOFFSETTO:-0500
TZNAME:EST
DTSTART:20241103T060000
END:STANDARD
BEGIN:DAYLIGHT
TZOFFSETFROM:-0500
TZOFFSETTO:-0400
TZNAME:EDT
DTSTART:20250309T070000
END:DAYLIGHT
BEGIN:STANDARD
TZOFFSETFROM:-0400
TZOFFSETTO:-0500
TZNAME:EST
DTSTART:20251102T060000
END:STANDARD
BEGIN:DAYLIGHT
TZOFFSETFROM:-0500
TZOFFSETTO:-0400
TZNAME:EDT
DTSTART:20260308T070000
END:DAYLIGHT
BEGIN:STANDARD
TZOFFSETFROM:-0400
TZOFFSETTO:-0500
TZNAME:EST
DTSTART:20261101T060000
END:STANDARD
END:VTIMEZONE
BEGIN:VEVENT
DTSTART;TZID=America/Toronto:20250103T200000
DTEND;TZID=America/Toronto:20250104T050000
DTSTAMP:20260419T112825
CREATED:20241229T193106Z
LAST-MODIFIED:20241229T200939Z
UID:19038-1735934400-1735966800@www.hamiltonrasc.ca
SUMMARY:Quadrantids Meteor Shower Peak (all night)
DESCRIPTION:Named for a now-defunct constellation called the Mural Quadrant\, the Quadrantids meteor shower runs from December 26 to January 16 every year. Quadrantids meteors always radiate from a point in the northeastern sky below the tip of the Big Dipper’s handle. This shower commonly produces bright fireballs because it is produced by particles dropped by an asteroid designated 2003EH. The Quadrantids’ most intense period\, when up to 50 to 100 meteors per hour can appear during a short\, 6 hour window\, will occur on Friday\, January 3 at 18:00 GMT. That converts to daytime in the Americas\, but observers located in the Pacific Ocean and eastern Asia will have ideal conditions in the hours before dawn. The moon will not interfere with the shower this year.
URL:https://www.hamiltonrasc.ca/event/quadrantids-meteor-shower-peak-all-night-2/
CATEGORIES:Astronomical Events
END:VEVENT
BEGIN:VEVENT
DTSTART;TZID=America/Toronto:20250104T173000
DTEND;TZID=America/Toronto:20250104T193000
DTSTAMP:20260419T112825
CREATED:20241229T193108Z
LAST-MODIFIED:20241229T200939Z
UID:19040-1736011800-1736019000@www.hamiltonrasc.ca
SUMMARY:Waxing Moon joins Saturn (evening)
DESCRIPTION:In the southwestern sky after sunset on Saturday\, January 4\, the yellowish dot of Saturn will appear several finger widths below (or celestial WSW of) the waxing crescent moon – close enough to share the view in binoculars (orange circle). Venus will gleam to their lower right. The moon and Saturn will be visible from dusk until they set at about 10 p.m. local time. Hours earlier\, skywatchers located in a zone extending across northwestern Africa\, most of Europe\, Iceland\, and northeastern Greenland can safely watch the moon occult Saturn with unaided eyes\, binoculars\, and backyard telescopes. Use an app like Starry Night or Sky Safari to look up the event’s start and end times where you live.
URL:https://www.hamiltonrasc.ca/event/waxing-moon-joins-saturn-evening/
CATEGORIES:Astronomical Events
END:VEVENT
END:VCALENDAR